BEGIN:VCALENDAR
VERSION:2.0
METHOD:PUBLISH
PRODID:-//Accessible Web Design//My Calendar//http://www.joedolson.com//v//EN';
BEGIN:VEVENT
UID:2-2
LOCATION:Online Meeting
SUMMARY:DISCOvERIE: Meeting on cross-WPs data &amp; activities
DTSTAMP:20230412T150000
ORGANIZER;CN=Consuelo Cammarota:MAILTO:consuelo.cammarota@vhir.org
DTSTART:20230412T150000
DTEND:20230412T170000
CATEGORIES:General
URL;VALUE=URI:
DESCRIPTION;ENCODING=QUOTED-PRINTABLE:Meeting on cross-WPs data &amp; activities Wed, Apr 12, 2023 3:00 PM - 5:00 PM (CEST)Please join my meeting from your computer, tablet or smartphone.https://meet.goto.com/492893365 
END:VEVENT
END:VCALENDAR